BEGIN:VCALENDAR
VERSION:2.0
PRODID:-//For women serious about business - ECPv6.15.20//NONSGML v1.0//EN
CALSCALE:GREGORIAN
METHOD:PUBLISH
X-WR-CALNAME:For women serious about business
X-ORIGINAL-URL:https://businessbabble.net
X-WR-CALDESC:Events for For women serious about business
REFRESH-INTERVAL;VALUE=DURATION:PT1H
X-Robots-Tag:noindex
X-PUBLISHED-TTL:PT1H
BEGIN:VTIMEZONE
TZID:Europe/London
BEGIN:DAYLIGHT
TZOFFSETFROM:+0000
TZOFFSETTO:+0100
TZNAME:BST
DTSTART:20240331T010000
END:DAYLIGHT
BEGIN:STANDARD
TZOFFSETFROM:+0100
TZOFFSETTO:+0000
TZNAME:GMT
DTSTART:20241027T010000
END:STANDARD
BEGIN:DAYLIGHT
TZOFFSETFROM:+0000
TZOFFSETTO:+0100
TZNAME:BST
DTSTART:20250330T010000
END:DAYLIGHT
BEGIN:STANDARD
TZOFFSETFROM:+0100
TZOFFSETTO:+0000
TZNAME:GMT
DTSTART:20251026T010000
END:STANDARD
BEGIN:DAYLIGHT
TZOFFSETFROM:+0000
TZOFFSETTO:+0100
TZNAME:BST
DTSTART:20260329T010000
END:DAYLIGHT
BEGIN:STANDARD
TZOFFSETFROM:+0100
TZOFFSETTO:+0000
TZNAME:GMT
DTSTART:20261025T010000
END:STANDARD
BEGIN:DAYLIGHT
TZOFFSETFROM:+0000
TZOFFSETTO:+0100
TZNAME:BST
DTSTART:20270328T010000
END:DAYLIGHT
BEGIN:STANDARD
TZOFFSETFROM:+0100
TZOFFSETTO:+0000
TZNAME:GMT
DTSTART:20271031T010000
END:STANDARD
END:VTIMEZONE
BEGIN:VEVENT
DTSTART;TZID=Europe/London:20260209T184500
DTEND;TZID=Europe/London:20260209T213000
DTSTAMP:20260425T123429
CREATED:20251111T211555Z
LAST-MODIFIED:20251111T212740Z
UID:7989-1770662700-1770672600@businessbabble.net
SUMMARY:Monday 9 February 2026 – Monthly Meetup
DESCRIPTION:Hello \nThank you for booking for your interest in this event. \n📅 Date & Time: \nStart: 6.45pm for a 7pm start \nFinish around: 9.15pm \n🌻 Here is your Pre-thinking Preparation: 🌻 \nBring your thoughts with you (on paper or in your head!) to share any aspect you choose in our small group chats. \nYou will be emailed a template to work through in the first part of the session and will be yours to keep. \n👌 If you are attending in person: 👌 \nPlease bring with you: \n📕 Something to make notes with \n🚗 Parking: \nThere is parking at The Banyers Hotel. \nIf it is full try: \n– outside The Jolly Postie Pub: 2 Baldock St\, Royston SG8 5AY \n– or at the Royston Town Hall – SG8 7BS. \n🗺️ Finding us once you have arrived: \nAs you come in to The Banyers\, our meeting room is immediately on your right\, just come through the doors and we are at the back of the room. \n💧 Refreshments: \nTo help everyone budget we just buy our own drinks and there is normally water on the table. \n🚻 Toilets: \nAs you come through the main doors\, go through the door at about 2 o’clock and they are on your left (down a short corridor). \nOnce you are in the meeting room you can also access them through the front left of the room via an archway and the toilets are straight over. \n⭐ If you are attending online: ⭐ \nPlease have available: \n📕 Something to make notes with \n👓 You will be emailed the link. \n🌞 Agenda: 🌞 \n6.45 Pre-babbling – informal chatting before the meetup starts formally \n7.00 Babble News \n7.10 Quick Babbling together – Each babbler shares a success of the month \n7.25 Main training topic of the month \n9.00 Reflecting and action to take away \n9.15 Close \nPost-babbling – informal chatting.
URL:https://businessbabble.net/event/monday-9-february-2026-monthly-meetup/
LOCATION:ROYSTON – Banyers House\, 16 Melbourn Street\, Royston\, Hertfordshire\, SG8 7BZ\, United Kingdom
CATEGORIES:MEETUPS
END:VEVENT
BEGIN:VEVENT
DTSTART;TZID=Europe/London:20260112T184500
DTEND;TZID=Europe/London:20260112T213000
DTSTAMP:20260425T123429
CREATED:20251111T211030Z
LAST-MODIFIED:20251111T211821Z
UID:7986-1768243500-1768253400@businessbabble.net
SUMMARY:Monday 12 January 2026 - Monthly Meetup: Setting your goals
DESCRIPTION:Hello  \nThank you for booking for your interest in this event. \n📅 Date & Time: \nStart: 6.45pm for a 7pm start \nFinish around: 9.15pm \n🌻 Here is your Pre-thinking Preparation: 🌻 \nBring your thoughts with you (on paper or in your head!) to share any aspect you choose in our small group chats. \nYou will be emailed a template to work through in the first part of the session and will be yours to keep. \n👌 If you are attending in person: 👌 \nPlease bring with you: \n📕 Something to make notes with \n🚗 Parking: \nThere is parking at The Banyers Hotel. \nIf it is full try: \n– outside The Jolly Postie Pub: 2 Baldock St\, Royston SG8 5AY \n– or at the Royston Town Hall – SG8 7BS. \n🗺️ Finding us once you have arrived: \nAs you come in to The Banyers\, our meeting room is immediately on your right\, just come through the doors and we are at the back of the room. \n💧 Refreshments: \nTo help everyone budget we just buy our own drinks and there is normally water on the table. \n🚻 Toilets: \nAs you come through the main doors\, go through the door at about 2 o’clock and they are on your left (down a short corridor). \nOnce you are in the meeting room you can also access them through the front left of the room via an archway and the toilets are straight over. \n⭐ If you are attending online: ⭐ \nPlease have available: \n📕 Something to make notes with \n👓 You will be emailed the link. \n🌞 Agenda: 🌞 \n6.45  Pre-babbling – informal chatting before the meetup starts formally \n7.00  Babble News \n7.10  Quick Babbling together – Each babbler shares a success of the month \n7.25  Main training topic of the month \n9.00  Reflecting and action to take away \n9.15  Close \nPost-babbling – informal chatting
URL:https://businessbabble.net/event/12-january-2026-monthly-meetup-setting-your-goals/
LOCATION:ROYSTON – Banyers House\, 16 Melbourn Street\, Royston\, Hertfordshire\, SG8 7BZ\, United Kingdom
CATEGORIES:MEETUPS
END:VEVENT
BEGIN:VEVENT
DTSTART;TZID=Europe/London:20251208T183000
DTEND;TZID=Europe/London:20251208T213000
DTSTAMP:20260425T123429
CREATED:20251111T212012Z
LAST-MODIFIED:20251111T212747Z
UID:7994-1765218600-1765229400@businessbabble.net
SUMMARY:Monday 8th December 2025 - Members and invited guests only: Christmas Meal and Awards
DESCRIPTION:Hello  \nThank you for booking for your interest in this event. \n📅 Date & Time: \nStart: 6.30pm for a 7pm start \nFinish around: 9.30pm \n🚗 Parking: \nThere is parking at The Banyers Hotel. \nIf it is full try: \n– outside The Jolly Postie Pub: 2 Baldock St\, Royston SG8 5AY \n– or at the Royston Town Hall – SG8 7BS. \n🚻 Toilets: \nAs you come through the main doors\, go through the door at about 2 o’clock and they are on your left (down a short corridor). \nOnce you are in the meeting room you can also access them through the front left of the room via an archway and the toilets are straight over.
URL:https://businessbabble.net/event/monday-8th-december-2025-members-and-invited-guests-only-christmas-meal-and-awards/
LOCATION:ROYSTON – Banyers House\, 16 Melbourn Street\, Royston\, Hertfordshire\, SG8 7BZ\, United Kingdom
CATEGORIES:MEETUPS
END:VEVENT
BEGIN:VEVENT
DTSTART;TZID=Europe/London:20251124T123000
DTEND;TZID=Europe/London:20251124T133000
DTSTAMP:20260425T123429
CREATED:20251111T213115Z
LAST-MODIFIED:20251111T213115Z
UID:8001-1763987400-1763991000@businessbabble.net
SUMMARY:Monday 24 November - Members only - Monthly Online Lunch-up
DESCRIPTION:Members Monthly Online Lunch-up \nMonday 24th Nov \n12.30 to 1.30
URL:https://businessbabble.net/event/monday-24-november-members-only-monthly-online-lunch-up/
LOCATION:Online only
END:VEVENT
END:VCALENDAR